BEGIN:VCALENDAR
VERSION:2.0
PRODID:-//HMV International School - ECPv6.6.3//NONSGML v1.0//EN
CALSCALE:GREGORIAN
METHOD:PUBLISH
X-WR-CALNAME:HMV International School
X-ORIGINAL-URL:https://vedamrutnaturals.com
X-WR-CALDESC:Events for HMV International School
REFRESH-INTERVAL;VALUE=DURATION:PT1H
X-Robots-Tag:noindex
X-PUBLISHED-TTL:PT1H
BEGIN:VTIMEZONE
TZID:Asia/Kolkata
BEGIN:STANDARD
TZOFFSETFROM:+0530
TZOFFSETTO:+0530
TZNAME:IST
DTSTART:20250101T000000
END:STANDARD
END:VTIMEZONE
BEGIN:VEVENT
DTSTART;TZID=Asia/Kolkata:20250203T000000
DTEND;TZID=Asia/Kolkata:20250203T000000
DTSTAMP:20260420T040516
CREATED:20241115T093648Z
LAST-MODIFIED:20241115T093648Z
UID:27038-1738540800-1738540800@vedamrutnaturals.com
SUMMARY:Solar System Activity
DESCRIPTION:Activity focused on exploring the solar system.
URL:https://vedamrutnaturals.com/event/solar-system-activity/
END:VEVENT
BEGIN:VEVENT
DTSTART;TZID=Asia/Kolkata:20250207T000000
DTEND;TZID=Asia/Kolkata:20250207T000000
DTSTAMP:20260420T040516
CREATED:20241115T093648Z
LAST-MODIFIED:20241115T093648Z
UID:27039-1738886400-1738886400@vedamrutnaturals.com
SUMMARY:Picture Reading Competition
DESCRIPTION:A competition where students interpret pictures and explain them.
URL:https://vedamrutnaturals.com/event/picture-reading-competition/
END:VEVENT
END:VCALENDAR