BEGIN:VCALENDAR
VERSION:2.0
PRODID:-//HMV International School - ECPv6.6.3//NONSGML v1.0//EN
CALSCALE:GREGORIAN
METHOD:PUBLISH
X-WR-CALNAME:HMV International School
X-ORIGINAL-URL:https://vedamrutnaturals.com
X-WR-CALDESC:Events for HMV International School
REFRESH-INTERVAL;VALUE=DURATION:PT1H
X-Robots-Tag:noindex
X-PUBLISHED-TTL:PT1H
BEGIN:VTIMEZONE
TZID:Asia/Kolkata
BEGIN:STANDARD
TZOFFSETFROM:+0530
TZOFFSETTO:+0530
TZNAME:IST
DTSTART:20250101T000000
END:STANDARD
END:VTIMEZONE
BEGIN:VEVENT
DTSTART;TZID=Asia/Kolkata:20250103T000000
DTEND;TZID=Asia/Kolkata:20250103T000000
DTSTAMP:20260420T061637
CREATED:20241115T093631Z
LAST-MODIFIED:20241115T093631Z
UID:27032-1735862400-1735862400@vedamrutnaturals.com
SUMMARY:Interhouse Poster Making
DESCRIPTION:Poster-making competition between different houses.
URL:https://vedamrutnaturals.com/event/interhouse-poster-making/
END:VEVENT
BEGIN:VEVENT
DTSTART;TZID=Asia/Kolkata:20250113T000000
DTEND;TZID=Asia/Kolkata:20250113T000000
DTSTAMP:20260420T061637
CREATED:20241115T093631Z
LAST-MODIFIED:20241115T093631Z
UID:27033-1736726400-1736726400@vedamrutnaturals.com
SUMMARY:Sankranti Celebration
DESCRIPTION:Celebration of the harvest festival of Sankranti.
URL:https://vedamrutnaturals.com/event/sankranti-celebration/
END:VEVENT
BEGIN:VEVENT
DTSTART;TZID=Asia/Kolkata:20250116T000000
DTEND;TZID=Asia/Kolkata:20250116T000000
DTSTAMP:20260420T061637
CREATED:20241115T093631Z
LAST-MODIFIED:20241115T093631Z
UID:27034-1736985600-1736985600@vedamrutnaturals.com
SUMMARY:National Youth Day
DESCRIPTION:Observance to honor the birth anniversary of Swami Vivekananda.
URL:https://vedamrutnaturals.com/event/national-youth-day/
END:VEVENT
BEGIN:VEVENT
DTSTART;TZID=Asia/Kolkata:20250117T000000
DTEND;TZID=Asia/Kolkata:20250117T000000
DTSTAMP:20260420T061637
CREATED:20241115T093648Z
LAST-MODIFIED:20241115T093648Z
UID:27035-1737072000-1737072000@vedamrutnaturals.com
SUMMARY:Kite Making
DESCRIPTION:A fun activity where students make their own kites.
URL:https://vedamrutnaturals.com/event/kite-making/
END:VEVENT
BEGIN:VEVENT
DTSTART;TZID=Asia/Kolkata:20250124T000000
DTEND;TZID=Asia/Kolkata:20250124T000000
DTSTAMP:20260420T061637
CREATED:20241115T093648Z
LAST-MODIFIED:20241115T093648Z
UID:27036-1737676800-1737676800@vedamrutnaturals.com
SUMMARY:Pot Painting
DESCRIPTION:Painting competition on pots.
URL:https://vedamrutnaturals.com/event/pot-painting/
END:VEVENT
BEGIN:VEVENT
DTSTART;TZID=Asia/Kolkata:20250126T000000
DTEND;TZID=Asia/Kolkata:20250126T000000
DTSTAMP:20260420T061637
CREATED:20241115T093648Z
LAST-MODIFIED:20241115T093648Z
UID:27037-1737849600-1737849600@vedamrutnaturals.com
SUMMARY:Republic Day
DESCRIPTION:Celebrating India’s Republic Day with flag hoisting and events.
URL:https://vedamrutnaturals.com/event/republic-day/
END:VEVENT
END:VCALENDAR