BEGIN:VCALENDAR
VERSION:2.0
PRODID:-//HMV International School - ECPv6.6.3//NONSGML v1.0//EN
CALSCALE:GREGORIAN
METHOD:PUBLISH
X-WR-CALNAME:HMV International School
X-ORIGINAL-URL:https://vedamrutnaturals.com
X-WR-CALDESC:Events for HMV International School
REFRESH-INTERVAL;VALUE=DURATION:PT1H
X-Robots-Tag:noindex
X-PUBLISHED-TTL:PT1H
BEGIN:VTIMEZONE
TZID:Asia/Kolkata
BEGIN:STANDARD
TZOFFSETFROM:+0530
TZOFFSETTO:+0530
TZNAME:IST
DTSTART:20240101T000000
END:STANDARD
END:VTIMEZONE
BEGIN:VEVENT
DTSTART;TZID=Asia/Kolkata:20241202T000000
DTEND;TZID=Asia/Kolkata:20241202T000000
DTSTAMP:20260420T080035
CREATED:20241115T093616Z
LAST-MODIFIED:20241115T093616Z
UID:27022-1733097600-1733097600@vedamrutnaturals.com
SUMMARY:Pollution Control Day
DESCRIPTION:Awareness activities focused on pollution control.
URL:https://vedamrutnaturals.com/event/pollution-control-day/
END:VEVENT
BEGIN:VEVENT
DTSTART;TZID=Asia/Kolkata:20241206T000000
DTEND;TZID=Asia/Kolkata:20241206T000000
DTSTAMP:20260420T080035
CREATED:20241115T093616Z
LAST-MODIFIED:20241115T093616Z
UID:27024-1733443200-1733443200@vedamrutnaturals.com
SUMMARY:Thank You Card for Grandparents
DESCRIPTION:Creating thank you cards for grandparents.
URL:https://vedamrutnaturals.com/event/thank-you-card-for-grandparents/
END:VEVENT
BEGIN:VEVENT
DTSTART;TZID=Asia/Kolkata:20241206T000000
DTEND;TZID=Asia/Kolkata:20241206T000000
DTSTAMP:20260420T080035
CREATED:20241115T093616Z
LAST-MODIFIED:20241115T093616Z
UID:27023-1733443200-1733443200@vedamrutnaturals.com
SUMMARY:Interhouse Group Quiz
DESCRIPTION:A quiz competition between different houses.
URL:https://vedamrutnaturals.com/event/interhouse-group-quiz/
END:VEVENT
BEGIN:VEVENT
DTSTART;TZID=Asia/Kolkata:20241220T000000
DTEND;TZID=Asia/Kolkata:20241220T000000
DTSTAMP:20260420T080035
CREATED:20241115T093631Z
LAST-MODIFIED:20241115T093631Z
UID:27030-1734652800-1734652800@vedamrutnaturals.com
SUMMARY:Christmas Tree Decoration
DESCRIPTION:Decorating the Christmas tree as part of holiday celebrations.
URL:https://vedamrutnaturals.com/event/christmas-tree-decoration/
END:VEVENT
BEGIN:VEVENT
DTSTART;TZID=Asia/Kolkata:20241220T000000
DTEND;TZID=Asia/Kolkata:20241220T000000
DTSTAMP:20260420T080035
CREATED:20241115T093631Z
LAST-MODIFIED:20241115T093631Z
UID:27031-1734652800-1734652800@vedamrutnaturals.com
SUMMARY:Maths Day
DESCRIPTION:Activities and events to celebrate mathematics.
URL:https://vedamrutnaturals.com/event/maths-day/
END:VEVENT
END:VCALENDAR