BEGIN:VCALENDAR
VERSION:2.0
PRODID:-//HMV International School - ECPv6.6.3//NONSGML v1.0//EN
CALSCALE:GREGORIAN
METHOD:PUBLISH
X-WR-CALNAME:HMV International School
X-ORIGINAL-URL:https://vedamrutnaturals.com
X-WR-CALDESC:Events for HMV International School
REFRESH-INTERVAL;VALUE=DURATION:PT1H
X-Robots-Tag:noindex
X-PUBLISHED-TTL:PT1H
BEGIN:VTIMEZONE
TZID:Asia/Kolkata
BEGIN:STANDARD
TZOFFSETFROM:+0530
TZOFFSETTO:+0530
TZNAME:IST
DTSTART:20240101T000000
END:STANDARD
END:VTIMEZONE
BEGIN:VEVENT
DTSTART;TZID=Asia/Kolkata:20241108T000000
DTEND;TZID=Asia/Kolkata:20241108T000000
DTSTAMP:20260420T101422
CREATED:20241115T093614Z
LAST-MODIFIED:20241115T093614Z
UID:27015-1731024000-1731024000@vedamrutnaturals.com
SUMMARY:National Education Day
DESCRIPTION:Observance to honor education and its importance.
URL:https://vedamrutnaturals.com/event/national-education-day/
END:VEVENT
BEGIN:VEVENT
DTSTART;TZID=Asia/Kolkata:20241114T000000
DTEND;TZID=Asia/Kolkata:20241114T000000
DTSTAMP:20260420T101422
CREATED:20241115T093615Z
LAST-MODIFIED:20241115T093615Z
UID:27017-1731542400-1731542400@vedamrutnaturals.com
SUMMARY:Children's Day Celebration
DESCRIPTION:Activities and programs for Children’s Day.
URL:https://vedamrutnaturals.com/event/childrens-day-celebration/
END:VEVENT
BEGIN:VEVENT
DTSTART;TZID=Asia/Kolkata:20241114T000000
DTEND;TZID=Asia/Kolkata:20241114T000000
DTSTAMP:20260420T101422
CREATED:20241115T093615Z
LAST-MODIFIED:20241115T093615Z
UID:27018-1731542400-1731542400@vedamrutnaturals.com
SUMMARY:Kannada Handwriting Competition
DESCRIPTION:Handwriting competition in Kannada language.
URL:https://vedamrutnaturals.com/event/kannada-handwriting-competition/
END:VEVENT
BEGIN:VEVENT
DTSTART;TZID=Asia/Kolkata:20241114T000000
DTEND;TZID=Asia/Kolkata:20241114T000000
DTSTAMP:20260420T101422
CREATED:20241115T093615Z
LAST-MODIFIED:20241115T093615Z
UID:27016-1731542400-1731542400@vedamrutnaturals.com
SUMMARY:Kannada Rajyotsava Celebration
DESCRIPTION:Celebration of Karnataka Formation Day.
URL:https://vedamrutnaturals.com/event/kannada-rajyotsava-celebration/
END:VEVENT
BEGIN:VEVENT
DTSTART;TZID=Asia/Kolkata:20241122T000000
DTEND;TZID=Asia/Kolkata:20241122T000000
DTSTAMP:20260420T101422
CREATED:20241115T093615Z
LAST-MODIFIED:20241115T093615Z
UID:27019-1732233600-1732233600@vedamrutnaturals.com
SUMMARY:Speech on Poets
DESCRIPTION:Speeches about famous poets and their works.
URL:https://vedamrutnaturals.com/event/speech-on-poets/
END:VEVENT
BEGIN:VEVENT
DTSTART;TZID=Asia/Kolkata:20241126T000000
DTEND;TZID=Asia/Kolkata:20241126T000000
DTSTAMP:20260420T101422
CREATED:20241115T093616Z
LAST-MODIFIED:20241115T093616Z
UID:27020-1732579200-1732579200@vedamrutnaturals.com
SUMMARY:Constitution Day
DESCRIPTION:Observance of India’s Constitution Day.
URL:https://vedamrutnaturals.com/event/constitution-day/
END:VEVENT
BEGIN:VEVENT
DTSTART;TZID=Asia/Kolkata:20241129T000000
DTEND;TZID=Asia/Kolkata:20241129T000000
DTSTAMP:20260420T101422
CREATED:20241115T093616Z
LAST-MODIFIED:20241115T093616Z
UID:27021-1732838400-1732838400@vedamrutnaturals.com
SUMMARY:Interhouse Group Songs
DESCRIPTION:A competition where different houses perform group songs.
URL:https://vedamrutnaturals.com/event/interhouse-group-songs/
END:VEVENT
END:VCALENDAR